BEGIN:VCALENDAR
VERSION:2.0
PRODID:-//LIONS, Distrikt 129, Slovenija - ECPv6.15.15//NONSGML v1.0//EN
CALSCALE:GREGORIAN
METHOD:PUBLISH
X-ORIGINAL-URL:https://www.lions.si
X-WR-CALDESC:Dogodki za LIONS, Distrikt 129, Slovenija
REFRESH-INTERVAL;VALUE=DURATION:PT1H
X-Robots-Tag:noindex
X-PUBLISHED-TTL:PT1H
BEGIN:VTIMEZONE
TZID:Europe/Ljubljana
BEGIN:DAYLIGHT
TZOFFSETFROM:+0100
TZOFFSETTO:+0200
TZNAME:CEST
DTSTART:20250330T010000
END:DAYLIGHT
BEGIN:STANDARD
TZOFFSETFROM:+0200
TZOFFSETTO:+0100
TZNAME:CET
DTSTART:20251026T010000
END:STANDARD
BEGIN:DAYLIGHT
TZOFFSETFROM:+0100
TZOFFSETTO:+0200
TZNAME:CEST
DTSTART:20260329T010000
END:DAYLIGHT
BEGIN:STANDARD
TZOFFSETFROM:+0200
TZOFFSETTO:+0100
TZNAME:CET
DTSTART:20261025T010000
END:STANDARD
BEGIN:DAYLIGHT
TZOFFSETFROM:+0100
TZOFFSETTO:+0200
TZNAME:CEST
DTSTART:20270328T010000
END:DAYLIGHT
BEGIN:STANDARD
TZOFFSETFROM:+0200
TZOFFSETTO:+0100
TZNAME:CET
DTSTART:20271031T010000
END:STANDARD
END:VTIMEZONE
BEGIN:VEVENT
DTSTART;TZID=Europe/Ljubljana:20260224T180000
DTEND;TZID=Europe/Ljubljana:20260224T200000
DTSTAMP:20260419T165217
CREATED:20260215T080955Z
LAST-MODIFIED:20260217T133112Z
UID:27265-1771956000-1771963200@www.lions.si
SUMMARY:Okrogla miza in odprtje razstave: Pomembnost transplantacij in darovanja organov
DESCRIPTION:Lions klub Velenje in Slovensko društvo Transplant vabita okroglo mizo o pomenu darovanja organov in transplantacij ter odprtje razstave “Krog hvaležnosti in sodelovanja”. \n📅 Torek\, 24. februar 2026\, ob 18.00 \n📍 Knjižnica Velenje \nZakaj se udeležiti? \nTema darovanja organov in transplantacij je pogosto prezrta\, a lahko zadeva vsakogar izmed nas. Na okrogli mizi bodo sodelovali strokovnjaki in posamezniki z lastnimi izkušnjami – o tem\, kako so se soočali z vprašanji darovanja ali transplantacije\, tako sami kot njihovi svojci ali pacienti. Med gosti bo tudi prim. Danica Avsec\, dr. med.\, ena ključnih ustvarjalk slovenskega donorskega in transplantacijskega sistema. \nPosebni trenutki dogodka \nPred začetkom bo potekal podpis Dogovora o sodelovanju med Zvezo Lions klubov Slovenije in Slovenskim društvom Transplant. Dogovor bosta podpisala guverner ZLKS mag. Vlado Gobec in predsednica SDT Nina Žitek\, s ciljem hitrejše ozaveščenosti javnosti o darovanju organov. \nPo omizju bo v osrednjem delu Knjižnice odprta razstava umetniških skulptur\, ki simbolizirajo hvaležnost in sodelovanje v kontekstu darovanja organov. Razstavo bo odprla dr. Jana Šimenc iz Javnega zavoda Slovenija -transplant. \nVabljeni\, da se nam pridružite in soustvarite pogovor\, ki lahko spremeni življenja!
URL:https://www.lions.si/dogodki/okrogla-miza-in-odprtje-razstave-pomembnost-transplantacij-in-darovanja-organov/
LOCATION:Knjižnica Velenje
CATEGORIES:Okrogla miza
ATTACH;FMTTYPE=image/webp:https://www.lions.si/wp-content/uploads/2026/02/vecteezy_female-friend-or-family-sitting-and-hold-hands-during-cheer_2910514-copy-scaled.webp
END:VEVENT
BEGIN:VEVENT
DTSTART;TZID=Europe/Ljubljana:20260228T083000
DTEND;TZID=Europe/Ljubljana:20260228T170000
DTSTAMP:20260419T165217
CREATED:20260130T124551Z
LAST-MODIFIED:20260216T140804Z
UID:27060-1772267400-1772298000@www.lions.si
SUMMARY:Prihaja že 22. Lions Ski Open v Kranjski Gori
DESCRIPTION:V soboto\, 28. februarja 2026\, bo v Kranjski Gori potekal že 22. humanitarni veleslalom Lions Ski Open\, tradicionalna celodnevna dobrodelna prireditev\, ki združuje šport\, druženje in humanitarnost. Dogodek bo tudi letos potekal v prijaznem in sproščenem vzdušju ter udeležencem ponudil nepozaben dan na snegu. \nOrganizatorji vabijo k udeležbi družine\, prijatelje\, sodelavce ter poslovne partnerje. Poleg celodnevnega smučanja bo poskrbljeno tudi za spremljevalni program\, zabavo in razvedrilo. \nVsi tekmovalci se bodo potegovali za bogate nagrade\, člani Lions in Leo klubov\, ki bodo nastopili v ekipah po tri člane\, pa tudi za prehodni pokal\, na katerem bo trajno vgravirano ime zmagovalne ekipe. Ker pa pri humanitarnih dogodkih ni poražencev\, bodo nagrade prejeli tudi udeleženci\, ki pokala ne bodo osvojili. \nOrganizator bo bo priredil tudi bogat srečelov\, kjer vsaka srečka zadane\, vsak dobitek pa presega vrednost srečke!\nPrijava: \n\n\nna dan dogodka na prijavni stojnici na smučišču za hotelom Ramada Resort\, od 8.30 dalje ali \n\n\nvnaprej preko spleta TUKAJ (Vnaprejšnja prijava zagotavlja nižjo štartno številko.) \n\n\nZbrana sredstva bodo namenjena pomoči potrebnim\, predvsem otrokom in starejšim. \nPo zaključku tekmovanja bo sledil še Après-ski party z DJ Sebo. \nDogodek obeta šport\, druženje in dobrodelnost
URL:https://www.lions.si/dogodki/prihaja-ze-22-lions-ski-open-v-kranjski-gori/
LOCATION:Kranjska Gora\, Kranjska Gora\, Slovenija
CATEGORIES:Športna prireditev z dobrodelno noto
ATTACH;FMTTYPE=image/webp:https://www.lions.si/wp-content/uploads/2026/01/smucar.webp
END:VEVENT
END:VCALENDAR