BEGIN:VCALENDAR
VERSION:2.0
PRODID:-//LIONS, Distrikt 129, Slovenija - ECPv6.15.15//NONSGML v1.0//EN
CALSCALE:GREGORIAN
METHOD:PUBLISH
X-WR-CALNAME:LIONS, Distrikt 129, Slovenija
X-ORIGINAL-URL:https://www.lions.si
X-WR-CALDESC:Dogodki za LIONS, Distrikt 129, Slovenija
REFRESH-INTERVAL;VALUE=DURATION:PT1H
X-Robots-Tag:noindex
X-PUBLISHED-TTL:PT1H
BEGIN:VTIMEZONE
TZID:Europe/Ljubljana
BEGIN:DAYLIGHT
TZOFFSETFROM:+0100
TZOFFSETTO:+0200
TZNAME:CEST
DTSTART:20200329T010000
END:DAYLIGHT
BEGIN:STANDARD
TZOFFSETFROM:+0200
TZOFFSETTO:+0100
TZNAME:CET
DTSTART:20201025T010000
END:STANDARD
BEGIN:DAYLIGHT
TZOFFSETFROM:+0100
TZOFFSETTO:+0200
TZNAME:CEST
DTSTART:20210328T010000
END:DAYLIGHT
BEGIN:STANDARD
TZOFFSETFROM:+0200
TZOFFSETTO:+0100
TZNAME:CET
DTSTART:20211031T010000
END:STANDARD
BEGIN:DAYLIGHT
TZOFFSETFROM:+0100
TZOFFSETTO:+0200
TZNAME:CEST
DTSTART:20220327T010000
END:DAYLIGHT
BEGIN:STANDARD
TZOFFSETFROM:+0200
TZOFFSETTO:+0100
TZNAME:CET
DTSTART:20221030T010000
END:STANDARD
END:VTIMEZONE
BEGIN:VEVENT
DTSTART;VALUE=DATE:20210520
DTEND;VALUE=DATE:20210531
DTSTAMP:20260420T070448
CREATED:20210513T144212Z
LAST-MODIFIED:20210515T192022Z
UID:8240-1621468800-1622419199@www.lions.si
SUMMARY:Dobrodelna spletna dražba Lions kluba Kranj
DESCRIPTION:V 3. nadstropju Pediatrične klinike na Hemato-onkološkem oddelku se zdravijo otroci in mladostniki\, ki se borijo s hudimi krvnimi boleznimi in različnimi raki. V Lions Klubu Kranj so se odločili pomagati tem otrokom\, ki so združeni v društvu Društva JUNAKI 3. nadstropja\, zato so pripravili DOBRODELNO SPLETNO DRAŽBO.  \nJUNAKI 3. nadstropja so otroci\, ki si želijo biti enaki drugim. Njihovo zdravljenje je dolgotrajno\, lahko tudi nekaj let. Mnogo otrok je v zgodnji razvojni fazi. Dolgotrajno zdravljenje pusti posledice na njihovi socialnosti in slabši vključenosti v okolje. Junaki 3. nadstropja ne želijo pomilovanja\, oni so Junaki. Z njimi so junaki tudi starši in celotne družine\, saj rak otroka zaznamuje celotno družino.  \nPRAVILA DRAŽBE: \n\n Dražba bo potekala od 20. 5. – 30. 5. 2021.\n Minimalen dvig cene je pri večini izdelkov najmanj 2 €\, pri nekaterih najmanj 5 €.\n Izdelek dobi dražitelj\, ki ZADNJI (do zaključka) postavi najvišjo ceno.\n Po koncu dražbe boste obveščeni\, če je izdelek vaš\, poslali vam bomo sporočilo (s profila LK Kranj\, Mojca Lončarski\, Darja Dela ali Irma Štih).\n Denar za plačilo izdelka bo zmagovalni dražitelj nakazal na TRR račun Lions kluba Kranj\, ki bo donacijo zbranih sredstev nakazal na Društvo junakov 3. nadstropja.\n Posamezen izdelek bo po plačilu izdražene vsote s strani zmagovalca – dražitelja\, po predhodnem dogovoru\, odposlan / predan zmagovalnemu dražitelji v njegovo last. \n\nVstopi v dražbo in si oglej izdelke TUKAJ. \nLions klub Kranj se v naprej zahvaljuje vsem sodelujočim. \nSkupaj Pomagamo.
URL:https://www.lions.si/dogodki/dobrodelna-spletna-drazba-lions-kluba-kranj/
LOCATION:spletni dogodek
CATEGORIES:Humanitarna akcija
ATTACH;FMTTYPE=image/jpeg:https://www.lions.si/wp-content/uploads/2021/05/Cokolada-okrasena-Junaki-3.-nadstropja-LK-Kranj.jpg
END:VEVENT
END:VCALENDAR