BEGIN:VCALENDAR
VERSION:2.0
PRODID:-//LIONS, Distrikt 129, Slovenija - ECPv6.15.15//NONSGML v1.0//EN
CALSCALE:GREGORIAN
METHOD:PUBLISH
X-WR-CALNAME:LIONS, Distrikt 129, Slovenija
X-ORIGINAL-URL:https://www.lions.si
X-WR-CALDESC:Dogodki za LIONS, Distrikt 129, Slovenija
REFRESH-INTERVAL;VALUE=DURATION:PT1H
X-Robots-Tag:noindex
X-PUBLISHED-TTL:PT1H
BEGIN:VTIMEZONE
TZID:Europe/Ljubljana
BEGIN:DAYLIGHT
TZOFFSETFROM:+0100
TZOFFSETTO:+0200
TZNAME:CEST
DTSTART:20250330T010000
END:DAYLIGHT
BEGIN:STANDARD
TZOFFSETFROM:+0200
TZOFFSETTO:+0100
TZNAME:CET
DTSTART:20251026T010000
END:STANDARD
BEGIN:DAYLIGHT
TZOFFSETFROM:+0100
TZOFFSETTO:+0200
TZNAME:CEST
DTSTART:20260329T010000
END:DAYLIGHT
BEGIN:STANDARD
TZOFFSETFROM:+0200
TZOFFSETTO:+0100
TZNAME:CET
DTSTART:20261025T010000
END:STANDARD
BEGIN:DAYLIGHT
TZOFFSETFROM:+0100
TZOFFSETTO:+0200
TZNAME:CEST
DTSTART:20270328T010000
END:DAYLIGHT
BEGIN:STANDARD
TZOFFSETFROM:+0200
TZOFFSETTO:+0100
TZNAME:CET
DTSTART:20271031T010000
END:STANDARD
END:VTIMEZONE
BEGIN:VEVENT
DTSTART;TZID=Europe/Ljubljana:20260124T190000
DTEND;TZID=Europe/Ljubljana:20260124T210000
DTSTAMP:20260420T101349
CREATED:20260105T141931Z
LAST-MODIFIED:20260106T124706Z
UID:26770-1769281200-1769288400@www.lions.si
SUMMARY:Veliki dobrodelni koncert Lions kluba Škofja Loka: Vokalna Ekstaza s skupino Perpetuum Jazzile
DESCRIPTION:Lions klub Škofja Loka vabi na tradicionalni veliki dobrodelni koncert »Pomagajmo skupaj«\, ki bo v soboto\, 24. januarja 2026\, ob 19. uri v Športni dvorani Trata v Škofji Loki\, kjer bodo nastopili članice in člani zasedbe PERPETUUM JAZZILE. Največja in najbolj prepoznavna slovenska vokalna skupina\, ki tradicionalno pripravlja koncerte pod imenom Vokalna ekstaza\, bo uprizorila tudi pravo vizualno ekstazo. \nPevke in pevci so novembra 2018 slovenskemu občinstvu predstavili nov koncertni show skladb in aranžmajev iz slovenske glasbene zakladnice LE SLOVENSKO\, s katerim so leta 2019 navduševali na več odrih po vsej Sloveniji\, sicer pa koncertirajo tudi na velikih koncertnih prizoriščih v tujini. Leta 2023 so obeležili 40 let delovanja. \nKoncertni spektakel v Škofji Loki bo postregel z največjimi uspešnicami in z novostmi\, ki so blizu mladim\, ter z ogromno pozitivne energije. \nVstopnice so na voljo na prodajnih mestih Eventim\, v TIC-u na Cankarjevem trgu v Škofji Loki in v prostorih Gorenjskega glasa v Kranju. \nPridite na vokalno poslastico v Škofjo Loko in – pomagajmo skupaj! \n 
URL:https://www.lions.si/dogodki/veliki-dobrodelni-koncert-lions-kluba-skofja-loka-vokalna-ekstaza-s-skupino-perpetuum-jazzile/
LOCATION:športna dvorana Trata\, Škofja Loka
CATEGORIES:Koncert z dobrodelno noto
ATTACH;FMTTYPE=image/jpeg:https://www.lions.si/wp-content/uploads/2026/01/thumbnail_Lions-koncert.jpg
END:VEVENT
BEGIN:VEVENT
DTSTART;TZID=Europe/Ljubljana:20260315T170000
DTEND;TZID=Europe/Ljubljana:20260315T200000
DTSTAMP:20260420T101349
CREATED:20260218T175528Z
LAST-MODIFIED:20260218T180103Z
UID:26171-1773594000-1773604800@www.lions.si
SUMMARY:Veliki dobrodelni koncert ob 35-letnici Lions kluba Ljubljana
DESCRIPTION:Lions klub Ljubljana vabi na Veliki dobrodelni koncert ob 35-letnici kluba\, ki se hkrati ujema tudi s 35-letnico lionizma v Sloveniji. \n📅 Nedelja\, 15. marec 2026\, ob 17. uri📍 Gallusova dvorana Cankarjevega doma\, Ljubljana \nBorut Miklavčič\, pralion in predsednik LK Ljubljana\, je v vabilu zapisal: \nDraga lionka\, dragi lion\,\n \nz veseljem te vabim na veliki dobrodelni koncert ob 35-letnici Lions kluba Ljubljana\, ki je hkrati 35-letnica lionizma v Sloveniji. Dogodek »GLASBA\, KI SPREMINJA ŽIVLJENJA« bo v nedeljo\, 15. marca 2026\, ob 17. uri\, v Gallusovi dvorani Cankarjevega doma v Ljubljani.\n \nNa odru bodo legendarni Slovenski oktet\, ki praznuje 75-letnico\, Alenka Godec\, Manca Izmajlova in Gregor Ravnik\, ob spremljavi Policijskega orkestra. Slavnostna govorka bo predsednica države Nataša Pirc Musar\, posnetek celotnega slavnostnega dogodka pa bo predvajan na TV Slovenija.\n \nDobrodelno zbrana sredstva bodo spremenila življenja otrok z motnjami v duševnem razvoju v Centru Janeza Levca v Ljubljani. Ter življenja vseh tistih\, ki jim boste del zbrane pomoči namenili sodelujoči Lions klubi.\n \nVsak Lions klub\, ki bo sodeloval z neposrednim nakupom vstopnic za svoje člane\, sorodnike\, prijatelje\, znance … bo po koncertu prejel 50 % vrednosti vstopnic\, ki jih bo nabavil\, ter ta sredstva v celoti namenil svojemu humanitarnemu programu.\n \nCena vstopnic: 30 €\, 50 € ali 100 € v prvih dveh vrstah balkona in parterja. Sodelujoči Lions klub kupi vstopnice za koncert na blagajni Cankarjevega doma tel. št. 01 2417300. Prosimo\, da »klubskih vstopnic« ne kupujete na siceršnjih prodajnih mestih\, saj le nakup preko navedene številke omogoča evidentiranje vplačila in kasnejšo povrnitev 50% vrednosti vstopnic na naslov kluba. CD vam bo vstopnice poslal po e-pošti\, oziroma jih boste lahko osebno prevzeli na blagajni CD.\n \nGre za priložnost\, da Lions ob 35-letnici svojega poslanstva\, solidarnosti\, pomoči in predanosti ljudem v stiski pokažemo našo povezanost\, zavzetost in nepopustljivost\, ko gre za dobra dela. Zato vabimo vse Lions klube\, da Gallusovo dvorano skupaj s svojimi sopotniki\, prijatelji in zavezniki napolnimo z dobro energijo\, ki jo že 35 let ustvarja slovenski lionizem. Ne odlašajte – nabavite vstopnice čim prej.\n \nPomagamo – We serve!
URL:https://www.lions.si/dogodki/veliki-dobrodelni-koncert-ob-35-letnici-lions-kluba-ljubljana/
CATEGORIES:Dobrodelni koncert
ATTACH;FMTTYPE=image/jpeg:https://www.lions.si/wp-content/uploads/2025/11/veliki-dobrodelni-koncert-35let-Lions-kluba-Ljubjana.jpg
END:VEVENT
END:VCALENDAR