BEGIN:VCALENDAR
VERSION:2.0
PRODID:-//LIONS, Distrikt 129, Slovenija - ECPv6.15.15//NONSGML v1.0//EN
CALSCALE:GREGORIAN
METHOD:PUBLISH
X-ORIGINAL-URL:https://www.lions.si
X-WR-CALDESC:Dogodki za LIONS, Distrikt 129, Slovenija
REFRESH-INTERVAL;VALUE=DURATION:PT1H
X-Robots-Tag:noindex
X-PUBLISHED-TTL:PT1H
BEGIN:VTIMEZONE
TZID:Europe/Ljubljana
BEGIN:DAYLIGHT
TZOFFSETFROM:+0100
TZOFFSETTO:+0200
TZNAME:CEST
DTSTART:20240331T010000
END:DAYLIGHT
BEGIN:STANDARD
TZOFFSETFROM:+0200
TZOFFSETTO:+0100
TZNAME:CET
DTSTART:20241027T010000
END:STANDARD
BEGIN:DAYLIGHT
TZOFFSETFROM:+0100
TZOFFSETTO:+0200
TZNAME:CEST
DTSTART:20250330T010000
END:DAYLIGHT
BEGIN:STANDARD
TZOFFSETFROM:+0200
TZOFFSETTO:+0100
TZNAME:CET
DTSTART:20251026T010000
END:STANDARD
BEGIN:DAYLIGHT
TZOFFSETFROM:+0100
TZOFFSETTO:+0200
TZNAME:CEST
DTSTART:20260329T010000
END:DAYLIGHT
BEGIN:STANDARD
TZOFFSETFROM:+0200
TZOFFSETTO:+0100
TZNAME:CET
DTSTART:20261025T010000
END:STANDARD
END:VTIMEZONE
BEGIN:VEVENT
DTSTART;TZID=Europe/Ljubljana:20250111T090000
DTEND;TZID=Europe/Ljubljana:20250111T140000
DTSTAMP:20260423T124817
CREATED:20241112T184851Z
LAST-MODIFIED:20241226T111200Z
UID:18928-1736586000-1736604000@www.lions.si
SUMMARY:3. seja kabineta guvernerja Vladimirja Bahča Zveze Lions klubov Slovenije D-129
DESCRIPTION:Hotel: BIOTERME Mala Nedelja; Prlekija \n\nFoto galerija: Galerija slik – BIOTERME\nNačrt poti: Potovanje do Bioterme Mala Nedelja\, Prlekija\nDvorana: Glinena dvorana v pritličju ob recepciji Poslovni dogodki – BIOTERME\n\nPodatki od hotela BIOTERME: \nMoravci v Slovenskih Goricah 34/b \n9243 Mala Nedelja\, Slovenija \nT:  +386 (0)2 565 20 35 \nwww.bioterme.si
URL:https://www.lions.si/dogodki/3-seja-kabineta-guvernerja-vladimirja-bahca-zveze-lions-klubov-slovenije-d-129/
LOCATION:Hotel Bioterme Mala Nedelja\, Moravci v Slovenskih Goricah 34/\, Mala Nedelja\, 9243\, Slovenia
CATEGORIES:Seja kabineta D-129
ATTACH;FMTTYPE=image/jpeg:https://www.lions.si/wp-content/uploads/2024/11/Logo-Bahc-24-15_2.jpg
END:VEVENT
END:VCALENDAR