BEGIN:VCALENDAR
VERSION:2.0
PRODID:-//LIONS, Distrikt 129, Slovenija - ECPv6.15.15//NONSGML v1.0//EN
CALSCALE:GREGORIAN
METHOD:PUBLISH
X-ORIGINAL-URL:https://www.lions.si
X-WR-CALDESC:Dogodki za LIONS, Distrikt 129, Slovenija
REFRESH-INTERVAL;VALUE=DURATION:PT1H
X-Robots-Tag:noindex
X-PUBLISHED-TTL:PT1H
BEGIN:VTIMEZONE
TZID:Europe/Ljubljana
BEGIN:DAYLIGHT
TZOFFSETFROM:+0100
TZOFFSETTO:+0200
TZNAME:CEST
DTSTART:20250330T010000
END:DAYLIGHT
BEGIN:STANDARD
TZOFFSETFROM:+0200
TZOFFSETTO:+0100
TZNAME:CET
DTSTART:20251026T010000
END:STANDARD
BEGIN:DAYLIGHT
TZOFFSETFROM:+0100
TZOFFSETTO:+0200
TZNAME:CEST
DTSTART:20260329T010000
END:DAYLIGHT
BEGIN:STANDARD
TZOFFSETFROM:+0200
TZOFFSETTO:+0100
TZNAME:CET
DTSTART:20261025T010000
END:STANDARD
BEGIN:DAYLIGHT
TZOFFSETFROM:+0100
TZOFFSETTO:+0200
TZNAME:CEST
DTSTART:20270328T010000
END:DAYLIGHT
BEGIN:STANDARD
TZOFFSETFROM:+0200
TZOFFSETTO:+0100
TZNAME:CET
DTSTART:20271031T010000
END:STANDARD
END:VTIMEZONE
BEGIN:VEVENT
DTSTART;TZID=Europe/Ljubljana:20260210T180000
DTEND;TZID=Europe/Ljubljana:20260210T200000
DTSTAMP:20260423T041027
CREATED:20260120T130919Z
LAST-MODIFIED:20260120T131008Z
UID:26932-1770746400-1770753600@www.lions.si
SUMMARY:Čarobni večer orientalskega plesa in druženja
DESCRIPTION:Lions klub Goriška vabi na poseben večer orientalskega plesa in prijetnega druženja\, namenjen sprostitvi\, dobri energiji in trenutkom zase. Dogodek bo priložnost za smeh\, povezovanje ter nežno raziskovanje ženstvenega gibanja. \n📅 10. februar 2026\, ob 18. uri\n📍 Center Revitalizacije Nova Gorica (Delpinova ulica 22 -Trgovska hiša Mercator – 1. nadstropje) \nDelavnico bo vodila Tamara Kokol\, dolgoletna plesalka in učiteljica orientalskih plesov ter članica Lions kluba Šentjur. Udeleženke bo na sproščen in eleganten način popeljala v svet orientalskega plesa\, ženstvenosti in notranjega ravnovesja. \nUdeležba je možna ob predhodni prijavi preko spletnega obrazca TUKAJ ali po elektronski naslov goriska@lions.si najkasneje do 30.  januarja 2026. \nPrispevek – donacija znaša 25 eur in se poravna na TRR LK Goriška: SI56 6400 0000 0556 403.Donacija vključuje udeležbo na delavnici orientalskega plesa ter prijetno druženje ob pijači in prigrizkupo delavnici. \nZbrana sredstva bo Lions klub Goriška Varni hiši Goriške.
URL:https://www.lions.si/dogodki/carobni-vecer-orientalskega-plesa-in-druzenja/
LOCATION:Center Revitalizacije Nova Gorica\, Delpinova ulica 22 (Trgovska hiša Mercator – 1. nadstropje)\,\, Nova Gorica
CATEGORIES:Plesna delavnica
ATTACH;FMTTYPE=image/jpeg:https://www.lions.si/wp-content/uploads/2026/01/orientalski-ples.jpg
ORGANIZER;CN="Lions klub Gori%C5%A1ka":MAILTO:goriska@lions.si
END:VEVENT
END:VCALENDAR