BEGIN:VCALENDAR
VERSION:2.0
PRODID:-//LIONS, Distrikt 129, Slovenija - ECPv6.15.15//NONSGML v1.0//EN
CALSCALE:GREGORIAN
METHOD:PUBLISH
X-WR-CALNAME:LIONS, Distrikt 129, Slovenija
X-ORIGINAL-URL:https://www.lions.si
X-WR-CALDESC:Dogodki za LIONS, Distrikt 129, Slovenija
REFRESH-INTERVAL;VALUE=DURATION:PT1H
X-Robots-Tag:noindex
X-PUBLISHED-TTL:PT1H
BEGIN:VTIMEZONE
TZID:Europe/Ljubljana
BEGIN:DAYLIGHT
TZOFFSETFROM:+0100
TZOFFSETTO:+0200
TZNAME:CEST
DTSTART:20250330T010000
END:DAYLIGHT
BEGIN:STANDARD
TZOFFSETFROM:+0200
TZOFFSETTO:+0100
TZNAME:CET
DTSTART:20251026T010000
END:STANDARD
BEGIN:DAYLIGHT
TZOFFSETFROM:+0100
TZOFFSETTO:+0200
TZNAME:CEST
DTSTART:20260329T010000
END:DAYLIGHT
BEGIN:STANDARD
TZOFFSETFROM:+0200
TZOFFSETTO:+0100
TZNAME:CET
DTSTART:20261025T010000
END:STANDARD
BEGIN:DAYLIGHT
TZOFFSETFROM:+0100
TZOFFSETTO:+0200
TZNAME:CEST
DTSTART:20270328T010000
END:DAYLIGHT
BEGIN:STANDARD
TZOFFSETFROM:+0200
TZOFFSETTO:+0100
TZNAME:CET
DTSTART:20271031T010000
END:STANDARD
END:VTIMEZONE
BEGIN:VEVENT
DTSTART;TZID=Europe/Ljubljana:20260328T120000
DTEND;TZID=Europe/Ljubljana:20260328T140000
DTSTAMP:20260419T220946
CREATED:20260316T175001Z
LAST-MODIFIED:20260316T175350Z
UID:27667-1774699200-1774706400@www.lions.si
SUMMARY:Pasijonski koncert »Stoletni pasijoni na tisočletni violini«
DESCRIPTION:Lions klub Škofja Loka in Rotary klub Škofja Loka v času uprizoritev Škofjeloškega pasijona vabita na poseben pasijonski koncert z naslovom Stoletni pasijoni na tisočletni violini.\n \n🗓️ Sobota\, 28. marec 2026\, ob 12. uri \n📍 Nunska cerkev v Škofji Loki \nNa znamenito violino Mother Violin (Mati violin)\, izdelano iz več kot 6.500 let stare jelke\, bo igrala violinistka Ana Julija Mlejnik Železnik. Kot solist se ji bo pridružil flavtist Luka Mlejnik Železnik\, spremljal pa ju bo Orkester Amadeo pod vodstvom dirigenta Tilna Drakslerja. \nVsi nastopajoči prihajajo iz Škofje Loke. Z mestom je povezan tudi mojster goslar Daniel Musek\, ki je ustvaril prvo violino iz tega izjemnega lesa. Instrument odlikujejo izjemna zgodba\, prepoznaven videz ter vrhunske akustične lastnosti\, ki navdušujejo tudi najzahtevnejše violiniste. \nNa voljo je še nekaj vstopnic\, zato organizatorji vabijo\, da se pridružite in doživite pasijonsko zgodbo\, pripovedovano skozi glas violine. \nVeč informacij o koncertu in nakupu vstopnic je na voljo v priloženem VABILO.
URL:https://www.lions.si/dogodki/pasijonski-koncert-stoletni-pasijoni-na-tisocletni-violini/
LOCATION:Nunska cerkev\, Škofja Loka
CATEGORIES:Koncert
ATTACH;FMTTYPE=image/jpeg:https://www.lions.si/wp-content/uploads/2026/03/IMG_0100.jpeg
END:VEVENT
END:VCALENDAR