BEGIN:VCALENDAR
VERSION:2.0
PRODID:-//LIONS, Distrikt 129, Slovenija - ECPv6.15.15//NONSGML v1.0//EN
CALSCALE:GREGORIAN
METHOD:PUBLISH
X-WR-CALNAME:LIONS, Distrikt 129, Slovenija
X-ORIGINAL-URL:https://www.lions.si
X-WR-CALDESC:Dogodki za LIONS, Distrikt 129, Slovenija
REFRESH-INTERVAL;VALUE=DURATION:PT1H
X-Robots-Tag:noindex
X-PUBLISHED-TTL:PT1H
BEGIN:VTIMEZONE
TZID:Europe/Ljubljana
BEGIN:DAYLIGHT
TZOFFSETFROM:+0100
TZOFFSETTO:+0200
TZNAME:CEST
DTSTART:20250330T010000
END:DAYLIGHT
BEGIN:STANDARD
TZOFFSETFROM:+0200
TZOFFSETTO:+0100
TZNAME:CET
DTSTART:20251026T010000
END:STANDARD
BEGIN:DAYLIGHT
TZOFFSETFROM:+0100
TZOFFSETTO:+0200
TZNAME:CEST
DTSTART:20260329T010000
END:DAYLIGHT
BEGIN:STANDARD
TZOFFSETFROM:+0200
TZOFFSETTO:+0100
TZNAME:CET
DTSTART:20261025T010000
END:STANDARD
BEGIN:DAYLIGHT
TZOFFSETFROM:+0100
TZOFFSETTO:+0200
TZNAME:CEST
DTSTART:20270328T010000
END:DAYLIGHT
BEGIN:STANDARD
TZOFFSETFROM:+0200
TZOFFSETTO:+0100
TZNAME:CET
DTSTART:20271031T010000
END:STANDARD
END:VTIMEZONE
BEGIN:VEVENT
DTSTART;TZID=Europe/Ljubljana:20260206T180000
DTEND;TZID=Europe/Ljubljana:20260206T200000
DTSTAMP:20260423T011944
CREATED:20260130T123659Z
LAST-MODIFIED:20260130T123953Z
UID:27051-1770400800-1770408000@www.lions.si
SUMMARY:Gledališka predstava "RITRIT
DESCRIPTION:Lions klub Vogrsko vas v sodelovanju z Občino Renče – Vogrsko vabi na ogled dobrodelne gledališke predstave »RITRIT«\, v izvedbi Gledališke družine Kontrada Kanal.  \nOb tej priložnosti bo na ogled tudi razstava likovnih del »Plakat miru«\, ki so jih ustvarili učenci osnovnih šol iz Branika\, Dornberka\, Renč in Šempetra pri Gorici. \n📅 Petek\, 6. februarja 2026\, od 18. ure\n📍 Kulturni dom Bukovica  \nVstopnine ni. Zbirali pa se bodo prostovoljni prispevki\, ki bodo v celoti namenjeni pomoči družini v stiski iz občine Renče – Vogrsko. \nPrisrčno vabljeni k ogledu in podpori dobrodelnega dogodka.
URL:https://www.lions.si/dogodki/gledaliska-predstava-ritrit/
LOCATION:Kulturni doma Bukovica
CATEGORIES:Gledališka predstava
ATTACH;FMTTYPE=image/jpeg:https://www.lions.si/wp-content/uploads/2026/01/ritrit.jpg
END:VEVENT
END:VCALENDAR