BEGIN:VCALENDAR
VERSION:2.0
PRODID:-//LIONS, Distrikt 129, Slovenija - ECPv6.15.15//NONSGML v1.0//EN
CALSCALE:GREGORIAN
METHOD:PUBLISH
X-WR-CALNAME:LIONS, Distrikt 129, Slovenija
X-ORIGINAL-URL:https://www.lions.si
X-WR-CALDESC:Dogodki za LIONS, Distrikt 129, Slovenija
REFRESH-INTERVAL;VALUE=DURATION:PT1H
X-Robots-Tag:noindex
X-PUBLISHED-TTL:PT1H
BEGIN:VTIMEZONE
TZID:Europe/Ljubljana
BEGIN:DAYLIGHT
TZOFFSETFROM:+0100
TZOFFSETTO:+0200
TZNAME:CEST
DTSTART:20250330T010000
END:DAYLIGHT
BEGIN:STANDARD
TZOFFSETFROM:+0200
TZOFFSETTO:+0100
TZNAME:CET
DTSTART:20251026T010000
END:STANDARD
BEGIN:DAYLIGHT
TZOFFSETFROM:+0100
TZOFFSETTO:+0200
TZNAME:CEST
DTSTART:20260329T010000
END:DAYLIGHT
BEGIN:STANDARD
TZOFFSETFROM:+0200
TZOFFSETTO:+0100
TZNAME:CET
DTSTART:20261025T010000
END:STANDARD
BEGIN:DAYLIGHT
TZOFFSETFROM:+0100
TZOFFSETTO:+0200
TZNAME:CEST
DTSTART:20270328T010000
END:DAYLIGHT
BEGIN:STANDARD
TZOFFSETFROM:+0200
TZOFFSETTO:+0100
TZNAME:CET
DTSTART:20271031T010000
END:STANDARD
END:VTIMEZONE
BEGIN:VEVENT
DTSTART;TZID=Europe/Ljubljana:20260423T190000
DTEND;TZID=Europe/Ljubljana:20260423T230000
DTSTAMP:20260423T024541
CREATED:20260407T172614Z
LAST-MODIFIED:20260415T162415Z
UID:27766-1776970800-1776985200@www.lions.si
SUMMARY:Dobrodelna večerja »Povežimo se«
DESCRIPTION:Lions klub Kranj v sodelovanju z Rotary klubom Kranj vabi na tradicionalno dobrodelno večerjo »Povežimo se«. \n🗓️ Četrtek\, 23. april 2026\, ob 19. uri \n📍 Elegans Hotel\, Brdo pri Kranju. \nDogodek je namenjen druženju\, povezovanju ter podpori dobrodelnim projektom. Prispevek v višini 75 EUR na osebo vključuje večerjo in dobrodelni prispevek. \nDobrodelni prispevek bo namenjen nakupu robotske rehabilitacijske rokavice za Center Korak Kranj. \n 
URL:https://www.lions.si/dogodki/dobrodelna-vecerja-povezimo-se/
LOCATION:Elegans Hotel\, Brdo pri Kranju
CATEGORIES:Družabni dogodek z dobrodelno noto
ATTACH;FMTTYPE=image/jpeg:https://www.lions.si/wp-content/uploads/2026/04/Vabilo_PovezimoSe_2026_1.jpg
END:VEVENT
END:VCALENDAR